BEGIN:VCALENDAR
VERSION:2.0
PRODID:-//National Institute of Early Childhood Development - ECPv6.15.20//NONSGML v1.0//EN
CALSCALE:GREGORIAN
METHOD:PUBLISH
X-WR-CALNAME:National Institute of Early Childhood Development
X-ORIGINAL-URL:https://niec.edu.sg
X-WR-CALDESC:Events for National Institute of Early Childhood Development
REFRESH-INTERVAL;VALUE=DURATION:PT1H
X-Robots-Tag:noindex
X-PUBLISHED-TTL:PT1H
BEGIN:VTIMEZONE
TZID:Asia/Singapore
BEGIN:STANDARD
TZOFFSETFROM:+0800
TZOFFSETTO:+0800
TZNAME:+08
DTSTART:20250101T000000
END:STANDARD
END:VTIMEZONE
BEGIN:VEVENT
DTSTART;TZID=Asia/Singapore:20260509T090000
DTEND;TZID=Asia/Singapore:20260509T120000
DTSTAMP:20260422T153228
CREATED:20260416T033857Z
LAST-MODIFIED:20260416T072214Z
UID:10000097-1778317200-1778328000@niec.edu.sg
SUMMARY:NIEC (Chinese) Music & Movement Workshop 2026
DESCRIPTION:想让自己掌握音乐与律动技巧吗？ \n加入我们与 Wigglepods 联合举办的独家工作坊，学习如何在学前教育环境中，以简单实用的方式为18个月至3岁的幼儿引入音乐与律动，支持他们的早期语言发展。 \n\n\n\n\n\n\n\n\n\n\n\n\n\n\n\n\n向所有幼教工作者开放。点击下方海报即可报名！
URL:https://niec.edu.sg/event/niec-chinese-music-movement-workshop-2026-by-wigglepods/
LOCATION:ExCEL@NIEC\, 535 Clementi Road\, Blk 53\, #03-01\, Singapore\, 599489\, Singapore
CATEGORIES:Alumni,Events
ATTACH;FMTTYPE=image/png:https://niec.edu.sg/wp-content/uploads/2026/04/NIEC-Chinese-Music-Movement-Workshop-2026.png
ORGANIZER;CN="Alumni Relations & Educators Engagement (AREE)":MAILTO:alumni@niec.edu.sg
END:VEVENT
END:VCALENDAR